BEGIN:VCALENDAR
VERSION:2.0
PRODID:-//Library Market//iCal Export//EN
BEGIN:VEVENT
SUMMARY:Diamond Art
UID:12442
DTSTAMP:20260423T133700Z
DTSTART:20260721T180000Z
DTEND:20260721T190000Z
LOCATION:49015 Pontiac Trail, Wixom, MI 48393, United States
ROOM: Craft Room
DESCRIPTION:Make a fun diamond art project! All supplies provided by the l
 ibrary. REGISTRATION REQUIRED. FOR TEENS GOING INTO GRADES 7-12.
URL:https://www.wixomlibrary.org/event/diamond-art-12442
END:VEVENT
END:VCALENDAR
