BEGIN:VCALENDAR
VERSION:2.0
PRODID:-//Library Market//iCal Export//EN
BEGIN:VEVENT
SUMMARY:Shrinky Dinks
UID:12443
DTSTAMP:20260423T061100Z
DTSTART:20260708T223000Z
DTEND:20260708T233000Z
LOCATION:49015 Pontiac Trail, Wixom, MI 48393, United States
ROOM: Craft Room
DESCRIPTION:Create and design fun images and watch them shrink in heat! RE
 GISTRATION REQUIRED. FOR KIDS GOING INTO GRADES 3-6
URL:https://www.wixomlibrary.org/event/shrinky-dinks-12443
END:VEVENT
END:VCALENDAR
