BEGIN:VCALENDAR
VERSION:2.0
PRODID:-//Library Market//iCal Export//EN
BEGIN:VEVENT
SUMMARY:Time Travelers: Epic Disasters (i.e. Great Molasses Flood of 1919)
UID:12444
DTSTAMP:20260426T011700Z
DTSTART:20260718T190000Z
DTEND:20260718T200000Z
LOCATION:49015 Pontiac Trail, Wixom, MI 48393, United States
ROOM: Craft Room
DESCRIPTION:Go back in time and relive some of history’s biggest disaste
 rs! REBGISTRATION REQUIRED. FOR KIDS GOING INTO GRADES 3-6.
URL:https://www.wixomlibrary.org/event/time-travelers-epic-disasters-ie-gr
 eat-molasses-flood-1919-12444
END:VEVENT
END:VCALENDAR
