BEGIN:VCALENDAR
VERSION:2.0
PRODID:-//Library Market//iCal Export//EN
BEGIN:VEVENT
SUMMARY:Paws for Reading: 7:00 Slot
UID:12447
DTSTAMP:20260425T233600Z
DTSTART:20260706T230000Z
DTEND:20260706T231500Z
LOCATION:49015 Pontiac Trail, Wixom, MI 48393, United States
ROOM: Craft Room
DESCRIPTION:Practice your reading skills with Bridger, a Golden Retriever,
  who will never interrupt you - just listen. This program is for children 
 grades K-5. Registration required for a 15 minute reading slot.
URL:https://www.wixomlibrary.org/event/paws-reading-700-slot-12447
END:VEVENT
END:VCALENDAR
