BEGIN:VCALENDAR
VERSION:2.0
PRODID:-//Library Market//iCal Export//EN
BEGIN:VEVENT
SUMMARY:Yoga for Kids
UID:12449
DTSTAMP:20260425T192400Z
DTSTART:20260622T143000Z
DTEND:20260622T153000Z
LOCATION:49015 Pontiac Trail, Wixom, MI 48393, United States
ROOM: Jungle Room
DESCRIPTION:Drop in for yoga with Miss Ashley! Geared at ages 2-5, but old
 er siblings and parents are welcome to join. Please wear clothing that is 
 comfortable for movement. No registration required.
URL:https://www.wixomlibrary.org/event/yoga-kids-12449
END:VEVENT
END:VCALENDAR
